BEGIN:VCALENDAR
VERSION:2.0
PRODID:-//Gray Matters Brain Cancer Foundation - ECPv6.15.20//NONSGML v1.0//EN
CALSCALE:GREGORIAN
METHOD:PUBLISH
X-WR-CALNAME:Gray Matters Brain Cancer Foundation
X-ORIGINAL-URL:https://gmbcf.org
X-WR-CALDESC:Events for Gray Matters Brain Cancer Foundation
REFRESH-INTERVAL;VALUE=DURATION:PT1H
X-Robots-Tag:noindex
X-PUBLISHED-TTL:PT1H
BEGIN:VTIMEZONE
TZID:America/New_York
BEGIN:DAYLIGHT
TZOFFSETFROM:-0500
TZOFFSETTO:-0400
TZNAME:EDT
DTSTART:20250309T070000
END:DAYLIGHT
BEGIN:STANDARD
TZOFFSETFROM:-0400
TZOFFSETTO:-0500
TZNAME:EST
DTSTART:20251102T060000
END:STANDARD
BEGIN:DAYLIGHT
TZOFFSETFROM:-0500
TZOFFSETTO:-0400
TZNAME:EDT
DTSTART:20260308T070000
END:DAYLIGHT
BEGIN:STANDARD
TZOFFSETFROM:-0400
TZOFFSETTO:-0500
TZNAME:EST
DTSTART:20261101T060000
END:STANDARD
BEGIN:DAYLIGHT
TZOFFSETFROM:-0500
TZOFFSETTO:-0400
TZNAME:EDT
DTSTART:20270314T070000
END:DAYLIGHT
BEGIN:STANDARD
TZOFFSETFROM:-0400
TZOFFSETTO:-0500
TZNAME:EST
DTSTART:20271107T060000
END:STANDARD
END:VTIMEZONE
BEGIN:VEVENT
DTSTART;TZID=America/New_York:20260608T080000
DTEND;TZID=America/New_York:20260608T170000
DTSTAMP:20260424T085716
CREATED:20251203T151648Z
LAST-MODIFIED:20251203T165425Z
UID:10000001-1780905600-1780938000@gmbcf.org
SUMMARY:Metedeconk National Golf Club
DESCRIPTION:Info Coming soon
URL:https://gmbcf.org/event/metedeconk-national-golf-club/
ATTACH;FMTTYPE=image/jpeg:https://gmbcf.org/wp-content/uploads/2025/12/save-the-date-card-2025_orig.jpg
ORGANIZER;CN="Gray Matters Brain Cancer Foundation":MAILTO:info@gmbcf.org
END:VEVENT
END:VCALENDAR